BEGIN:VCALENDAR
VERSION:2.0
PRODID:SchoolNow
CALSCALE:GREGORIAN
BEGIN:VEVENT
UID:0f6d033a-2e1a-11ed-8360-0ace7ed6ecd9
DTSTAMP:20220906T192818Z
SUMMARY:Elementary Back-to-School Night (pre-K-grade 5)
URL;VALUE=URI:https://www.albanyschools.org/schools/dual-language/calendar/
 3352388/elementary-back-to-school-night-pre-k-grade-5
DTSTART:20220922T220000Z
DTEND:20220922T230000Z
END:VEVENT
END:VCALENDAR
