BEGIN:VCALENDAR
VERSION:2.0
PRODID:SchoolNow
CALSCALE:GREGORIAN
BEGIN:VEVENT
UID:0bf8157c-3825-11ed-85d1-0210cdedd2ff
DTSTAMP:20220919T141208Z
SUMMARY:Info session: Understanding autism
URL;VALUE=URI:https://www.albanyschools.org/schools/dual-language/calendar/
 3414070/info-session-understanding-autism
DTSTART:20220929T220000Z
DTEND:20220929T233000Z
END:VEVENT
END:VCALENDAR
