BEGIN:VCALENDAR
VERSION:2.0
PRODID:SchoolNow
CALSCALE:GREGORIAN
BEGIN:VEVENT
UID:78086320-3b5e-11ed-b625-027b07447e17
DTSTAMP:20220923T164044Z
SUMMARY:Hispanic Heritage Parade
URL;VALUE=URI:https://www.albanyschools.org/schools/dual-language/calendar/
 3434435/hispanic-heritage-parade
DTSTART:20221012T133000Z
DTEND:20221012T143000Z
END:VEVENT
END:VCALENDAR
