BEGIN:VCALENDAR
VERSION:2.0
PRODID:SchoolNow
CALSCALE:GREGORIAN
BEGIN:VEVENT
UID:e15b3212-4fd1-11ed-a4bb-0e8bf3e9bb05
DTSTAMP:20221019T171716Z
SUMMARY:Winter concert
URL;VALUE=URI:https://www.albanyschools.org/schools/dual-language/calendar/
 3540690/winter-concert
DTSTART:20221130T233000Z
DTEND:20221201T003000Z
END:VEVENT
END:VCALENDAR
