BEGIN:VCALENDAR
VERSION:2.0
PRODID:SchoolNow
CALSCALE:GREGORIAN
BEGIN:VEVENT
UID:138e6c0a-5940-11ed-8e9f-0e4a58c70f8f
DTSTAMP:20221031T172034Z
SUMMARY:Biliteracy Night
LOCATION:AIC/Dual Language Program cafeteria (50 Lark St.)
URL;VALUE=URI:https://www.albanyschools.org/schools/dual-language/calendar/
 3576176/biliteracy-night
DTSTART:20221101T220000Z
DTEND:20221101T230000Z
END:VEVENT
END:VCALENDAR
