BEGIN:VCALENDAR
VERSION:2.0
PRODID:SchoolNow
CALSCALE:GREGORIAN
BEGIN:VEVENT
UID:fd09651e-9672-11ed-a9d7-020888d15683
DTSTAMP:20230117T142707Z
SUMMARY:Magnet Open House: Dual Language
URL;VALUE=URI:https://www.albanyschools.org/schools/dual-language/calendar/
 3669018/magnet-open-house-dual-language
DTSTART:20230213T230000Z
DTEND:20230214T000000Z
END:VEVENT
END:VCALENDAR
