BEGIN:VCALENDAR
VERSION:2.0
PRODID:SchoolNow
CALSCALE:GREGORIAN
BEGIN:VEVENT
UID:ee018ca6-ba01-11ed-8423-0a751dd0c351
DTSTAMP:20230303T203019Z
SUMMARY:PTA meeting (virtual)
URL;VALUE=URI:https://www.albanyschools.org/schools/dual-language/calendar/
 3812398/pta-meeting
DTSTART:20230322T220000Z
DTEND:20230322T230000Z
END:VEVENT
END:VCALENDAR
