BEGIN:VCALENDAR
VERSION:2.0
PRODID:SchoolNow
CALSCALE:GREGORIAN
BEGIN:VEVENT
UID:06015cd2-ba02-11ed-bbc9-0e84784295e1
DTSTAMP:20230303T202911Z
SUMMARY:PTA meeting (virtual)
URL;VALUE=URI:https://www.albanyschools.org/schools/dual-language/calendar/
 3812399/pta-meeting
DTSTART:20230419T220000Z
DTEND:20230419T230000Z
END:VEVENT
END:VCALENDAR
