BEGIN:VCALENDAR
VERSION:2.0
PRODID:SchoolNow
CALSCALE:GREGORIAN
BEGIN:VEVENT
UID:29c920fa-ba02-11ed-951c-0a240836df3b
DTSTAMP:20230303T202957Z
SUMMARY:PTA meeting (virtual)
URL;VALUE=URI:https://www.albanyschools.org/schools/dual-language/calendar/
 3812403/pta-meeting-virtual
DTSTART:20230517T220000Z
DTEND:20230517T230000Z
END:VEVENT
END:VCALENDAR
