BEGIN:VCALENDAR
VERSION:2.0
PRODID:SchoolNow
CALSCALE:GREGORIAN
BEGIN:VEVENT
UID:4d257544-ba02-11ed-95fe-0a9000610143
DTSTAMP:20230303T203056Z
SUMMARY:PTA meeting (in-person)
URL;VALUE=URI:https://www.albanyschools.org/schools/dual-language/calendar/
 3812404/pta-meeting-in-person
DTSTART:20230607T220000Z
DTEND:20230607T230000Z
END:VEVENT
END:VCALENDAR
