BEGIN:VCALENDAR
VERSION:2.0
PRODID:SchoolNow
CALSCALE:GREGORIAN
BEGIN:VEVENT
UID:536488f4-ba03-11ed-b1c5-0e4dfc53709f
DTSTAMP:20230303T203816Z
SUMMARY:Dual Language Discovery Night
URL;VALUE=URI:https://www.albanyschools.org/schools/dual-language/calendar/
 3812408/dual-language-discovery-night
DTSTART:20230315T220000Z
DTEND:20230315T230000Z
END:VEVENT
END:VCALENDAR
