BEGIN:VCALENDAR
VERSION:2.0
PRODID:SchoolNow
CALSCALE:GREGORIAN
BEGIN:VEVENT
UID:41e06fbc-d7a9-11ed-b1f1-0a5758daea7d
DTSTAMP:20230410T140907Z
SUMMARY:Spring concert
URL;VALUE=URI:https://www.albanyschools.org/schools/dual-language/calendar/
 4019720/spring-concert
DTSTART:20230525T223000Z
DTEND:20230525T233000Z
END:VEVENT
END:VCALENDAR
