BEGIN:VCALENDAR
VERSION:2.0
PRODID:SchoolNow
CALSCALE:GREGORIAN
BEGIN:VEVENT
UID:35c4194c-0a01-11ee-9692-0e4d60f44109
DTSTAMP:20230613T154440Z
SUMMARY:Prekindergarten Moving Up
URL;VALUE=URI:https://www.albanyschools.org/schools/dual-language/calendar/
 4383441/prekindergarten-moving-up
DTSTART:20230616T140000Z
DTEND:20230616T150000Z
END:VEVENT
END:VCALENDAR
