BEGIN:VCALENDAR
VERSION:2.0
PRODID:SchoolNow
CALSCALE:GREGORIAN
BEGIN:VEVENT
UID:747e103e-0a01-11ee-af9f-020612d018e5
DTSTAMP:20230613T154626Z
SUMMARY:Kindergarten Moving Up
LOCATION:Gym
URL;VALUE=URI:https://www.albanyschools.org/schools/dual-language/calendar/
 4383451/kindergarten-moving-up
DTSTART:20230621T140000Z
DTEND:20230621T150000Z
END:VEVENT
END:VCALENDAR
