BEGIN:VCALENDAR
VERSION:2.0
PRODID:SchoolNow
CALSCALE:GREGORIAN
BEGIN:VEVENT
UID:bcc314a2-148a-11ec-8123-02fd59a0f5a9
DTSTAMP:20210917T151200Z
SUMMARY:Open House (virtual event)
URL;VALUE=URI:https://www.albanyschools.org/schools/eaglepoint/calendar/273
 0725/open-house-meet-the-teacher-night
DTSTART:20210929T220000Z
DTEND:20210929T230000Z
END:VEVENT
END:VCALENDAR
