BEGIN:VCALENDAR
VERSION:2.0
PRODID:SchoolNow
CALSCALE:GREGORIAN
BEGIN:VEVENT
UID:7dc0a280-17f7-11ed-8a95-0ee4cb5095f1
DTSTAMP:20220823T184826Z
SUMMARY:First days of school: Eagle Point
DESCRIPTION:View event details for a look at which grades attend which day 
 on Thursday 9/1 and Friday 9/2.
URL;VALUE=URI:https://www.albanyschools.org/schools/eaglepoint/calendar/327
 4721/first-days-of-school-eagle-point
DTSTART;VALUE=DATE:20220901
DTEND;VALUE=DATE:20220903
END:VEVENT
END:VCALENDAR
