BEGIN:VCALENDAR
VERSION:2.0
PRODID:SchoolNow
CALSCALE:GREGORIAN
BEGIN:VEVENT
UID:dd1c11c4-4a9f-11ef-8e8d-0affe3e46b79
DTSTAMP:20240725T160634Z
SUMMARY:Transition camp for incoming sixth-graders
URL;VALUE=URI:https://www.albanyschools.org/schools/hackett/calendar/630845
 6/transition-camp-for-incoming-sixth-graders
DTSTART:20240819T123000Z
DTEND:20240819T153000Z
END:VEVENT
END:VCALENDAR
