BEGIN:VCALENDAR
VERSION:2.0
PRODID:SchoolNow
CALSCALE:GREGORIAN
BEGIN:VEVENT
UID:1190ffdc-50db-11ef-b1a5-0a58a9feac02
DTSTAMP:20240802T142529Z
SUMMARY:Spring Picture Day
URL;VALUE=URI:https://www.albanyschools.org/schools/montessori/calendar/634
 3976/spring-picture-day
DTSTART:20250424T142500Z
DTEND:20250424T152500Z
END:VEVENT
END:VCALENDAR
