BEGIN:VCALENDAR
VERSION:2.0
PRODID:SchoolNow
CALSCALE:GREGORIAN
BEGIN:VEVENT
UID:29ad467a-50db-11ef-9df5-0a58a9feac02
DTSTAMP:20250320T182247Z
SUMMARY:Spring Concert at Myers
URL;VALUE=URI:https://www.albanyschools.org/schools/montessori/calendar/634
 3977/spring-concert-at-myers
DTSTART:20250521T223000Z
DTEND:20250522T000000Z
END:VEVENT
END:VCALENDAR
