BEGIN:VCALENDAR
VERSION:2.0
PRODID:SchoolNow
CALSCALE:GREGORIAN
BEGIN:VEVENT
UID:7765f57e-50db-11ef-b9aa-0e9cbf423d49
DTSTAMP:20240802T142820Z
SUMMARY:MCC meeting (virtual)
URL;VALUE=URI:https://www.albanyschools.org/schools/montessori/calendar/634
 3980/mcc-meeting-virtual
DTSTART:20250521T213000Z
DTEND:20250521T230000Z
END:VEVENT
END:VCALENDAR
