BEGIN:VCALENDAR
VERSION:2.0
PRODID:SchoolNow
CALSCALE:GREGORIAN
BEGIN:VEVENT
UID:4039c590-54e5-11ef-9c4b-0eaf28a02189
DTSTAMP:20240807T174827Z
SUMMARY:Dress Like Principal Powell Day
URL;VALUE=URI:https://www.albanyschools.org/schools/montessori/calendar/636
 7477/dress-like-principal-powell-day
DTSTART:20250501T174700Z
DTEND:20250501T184700Z
END:VEVENT
END:VCALENDAR
