BEGIN:VCALENDAR
VERSION:2.0
PRODID:SchoolNow
CALSCALE:GREGORIAN
BEGIN:VEVENT
UID:6302c0d6-54e5-11ef-8355-0a58a9feac02
DTSTAMP:20240807T174925Z
SUMMARY:Rainbow Day
URL;VALUE=URI:https://www.albanyschools.org/schools/montessori/calendar/636
 7478/rainbow-day
DTSTART:20250422T174800Z
DTEND:20250422T184800Z
END:VEVENT
END:VCALENDAR
