BEGIN:VCALENDAR
VERSION:2.0
PRODID:SchoolNow
CALSCALE:GREGORIAN
BEGIN:VEVENT
UID:734facc4-54e5-11ef-bbb2-0a58a9feac02
DTSTAMP:20240807T174953Z
SUMMARY:Autism Awareness Day
URL;VALUE=URI:https://www.albanyschools.org/schools/montessori/calendar/636
 7479/autism-awareness-day
DTSTART:20250402T174900Z
DTEND:20250402T184900Z
END:VEVENT
END:VCALENDAR
