BEGIN:VCALENDAR
VERSION:2.0
PRODID:SchoolNow
CALSCALE:GREGORIAN
BEGIN:VEVENT
UID:bba737fe-001f-11f0-b54c-022ce46c0935
DTSTAMP:20250313T152754Z
SUMMARY:NYS Science exam\, grade 5
URL;VALUE=URI:https://www.albanyschools.org/schools/montessori/calendar/767
 4338/nys-science-exam-grade-5
DTSTART;VALUE=DATE:20250514
DTEND;VALUE=DATE:20250515
END:VEVENT
END:VCALENDAR
