BEGIN:VCALENDAR
VERSION:2.0
PRODID:SchoolNow
CALSCALE:GREGORIAN
BEGIN:VEVENT
UID:f901c33c-277d-11f0-a7f9-0a58a9feac02
DTSTAMP:20250502T175045Z
SUMMARY:SHINE field trip to Bring on the Spectrum
URL;VALUE=URI:https://www.albanyschools.org/schools/montessori/calendar/805
 4018/shine-field-trip-to-bring-on-the-spectrum
DTSTART:20250515T175000Z
DTEND:20250515T185000Z
END:VEVENT
END:VCALENDAR
