BEGIN:VCALENDAR
VERSION:2.0
PRODID:SchoolNow
CALSCALE:GREGORIAN
BEGIN:VEVENT
UID:0c943b78-277e-11f0-8415-0a58a9feac02
DTSTAMP:20250502T175117Z
SUMMARY:Grade 5 group and individual photos
URL;VALUE=URI:https://www.albanyschools.org/schools/montessori/calendar/805
 4019/grade-5-group-and-individual-photos
DTSTART:20250519T175000Z
DTEND:20250519T185000Z
END:VEVENT
END:VCALENDAR
