BEGIN:VCALENDAR
VERSION:2.0
PRODID:SchoolNow
CALSCALE:GREGORIAN
BEGIN:VEVENT
UID:1e226040-277e-11f0-ae36-0a58a9feac02
DTSTAMP:20250502T175147Z
SUMMARY:Grade 5 (Bakes) visits Myers
URL;VALUE=URI:https://www.albanyschools.org/schools/montessori/calendar/805
 4020/grade-5-bakes-visits-myers
DTSTART:20250519T175100Z
DTEND:20250519T185100Z
END:VEVENT
END:VCALENDAR
