BEGIN:VCALENDAR
VERSION:2.0
PRODID:SchoolNow
CALSCALE:GREGORIAN
BEGIN:VEVENT
UID:42ea15a8-277e-11f0-b93d-0a58a9feac02
DTSTAMP:20250502T175249Z
SUMMARY:American Young Voices field trip
URL;VALUE=URI:https://www.albanyschools.org/schools/montessori/calendar/805
 4022/american-young-voices-field-trip
DTSTART:20250602T175200Z
DTEND:20250602T185200Z
END:VEVENT
END:VCALENDAR
