BEGIN:VCALENDAR
VERSION:2.0
PRODID:SchoolNow
CALSCALE:GREGORIAN
BEGIN:VEVENT
UID:55859be2-277e-11f0-b7cb-0a58a9feac02
DTSTAMP:20250502T175417Z
SUMMARY:PK/K (Bruce/O'Neil) field trip to Thacher Park
URL;VALUE=URI:https://www.albanyschools.org/schools/montessori/calendar/805
 4023/pk-k-brice-oneil-field-trip-to-thacher-park
DTSTART:20250604T175200Z
DTEND:20250604T185200Z
END:VEVENT
END:VCALENDAR
