BEGIN:VCALENDAR
VERSION:2.0
PRODID:SchoolNow
CALSCALE:GREGORIAN
BEGIN:VEVENT
UID:6b149b16-277e-11f0-aec4-0a58a9feac02
DTSTAMP:20250502T175356Z
SUMMARY:Walk-n-Roll to School
URL;VALUE=URI:https://www.albanyschools.org/schools/montessori/calendar/805
 4024/walk-n-roll-to-school
DTSTART:20250506T113000Z
DTEND:20250506T123000Z
END:VEVENT
END:VCALENDAR
