BEGIN:VCALENDAR
VERSION:2.0
PRODID:SchoolNow
CALSCALE:GREGORIAN
BEGIN:VEVENT
UID:8a35f706-277e-11f0-bff6-0a58a9feac02
DTSTAMP:20250502T175448Z
SUMMARY:PK/K (Light/Battistello) field trip to Thacher Park
URL;VALUE=URI:https://www.albanyschools.org/schools/montessori/calendar/805
 4025/pk-k-light-battistello-field-trip-to-thacher-park
DTSTART:20250603T175400Z
DTEND:20250603T185400Z
END:VEVENT
END:VCALENDAR
