BEGIN:VCALENDAR
VERSION:2.0
PRODID:SchoolNow
CALSCALE:GREGORIAN
BEGIN:VEVENT
UID:99302060-277e-11f0-b63a-0a58a9feac02
DTSTAMP:20250502T175513Z
SUMMARY:Just Run track meet at Mohonasen
URL;VALUE=URI:https://www.albanyschools.org/schools/montessori/calendar/805
 4027/just-run-track-meet-at-mohonasen
DTSTART:20250606T175400Z
DTEND:20250606T185400Z
END:VEVENT
END:VCALENDAR
