BEGIN:VCALENDAR
VERSION:2.0
PRODID:SchoolNow
CALSCALE:GREGORIAN
BEGIN:VEVENT
UID:a8c430c0-277e-11f0-9b68-0e56e220a191
DTSTAMP:20250502T175539Z
SUMMARY:Grade 3 field trip to NYS Capitol
URL;VALUE=URI:https://www.albanyschools.org/schools/montessori/calendar/805
 4028/grade-3-field-trip-to-nys-capitol
DTSTART:20250610T175500Z
DTEND:20250610T185500Z
END:VEVENT
END:VCALENDAR
