BEGIN:VCALENDAR
VERSION:2.0
PRODID:SchoolNow
CALSCALE:GREGORIAN
BEGIN:VEVENT
UID:bf50a63e-277e-11f0-88f1-0ed6f4100cbf
DTSTAMP:20250502T175617Z
SUMMARY:Grades 1-2 field trip to Normanskill Farms
URL;VALUE=URI:https://www.albanyschools.org/schools/montessori/calendar/805
 4029/grades-1-2-field-trip-to-normanskill-farms
DTSTART:20250611T175500Z
DTEND:20250611T185500Z
END:VEVENT
END:VCALENDAR
