BEGIN:VCALENDAR
VERSION:2.0
PRODID:SchoolNow
CALSCALE:GREGORIAN
BEGIN:VEVENT
UID:d0e1e2fa-277e-11f0-b979-0a58a9feac02
DTSTAMP:20250502T175647Z
SUMMARY:Grade 5 field trip to Valley Cats
URL;VALUE=URI:https://www.albanyschools.org/schools/montessori/calendar/805
 4030/grade-5-field-trip-to-valley-cats
DTSTART:20250611T175600Z
DTEND:20250611T185600Z
END:VEVENT
END:VCALENDAR
