BEGIN:VCALENDAR
VERSION:2.0
PRODID:SchoolNow
CALSCALE:GREGORIAN
BEGIN:VEVENT
UID:dc3c38b2-277e-11f0-bba3-0a58a9feac02
DTSTAMP:20250502T175706Z
SUMMARY:Field Day
URL;VALUE=URI:https://www.albanyschools.org/schools/montessori/calendar/805
 4031/field-day
DTSTART:20250616T175600Z
DTEND:20250616T185600Z
END:VEVENT
END:VCALENDAR
