BEGIN:VCALENDAR
VERSION:2.0
PRODID:SchoolNow
CALSCALE:GREGORIAN
BEGIN:VEVENT
UID:efa6dc2c-277e-11f0-ac4f-0237284ec1ff
DTSTAMP:20250502T175738Z
SUMMARY:Grade 4 field trip to Cooperstown
URL;VALUE=URI:https://www.albanyschools.org/schools/montessori/calendar/805
 4032/grade-4-field-trip-to-cooperstown
DTSTART:20250620T175700Z
DTEND:20250620T185700Z
END:VEVENT
END:VCALENDAR
