BEGIN:VCALENDAR
VERSION:2.0
PRODID:SchoolNow
CALSCALE:GREGORIAN
BEGIN:VEVENT
UID:01fbc3f6-277f-11f0-a439-0237284ec1ff
DTSTAMP:20250502T175809Z
SUMMARY:Grade 5 picnic
URL;VALUE=URI:https://www.albanyschools.org/schools/montessori/calendar/805
 4033/grade-5-picnic
DTSTART:20250620T175700Z
DTEND:20250620T185700Z
END:VEVENT
END:VCALENDAR
