BEGIN:VCALENDAR
VERSION:2.0
PRODID:SchoolNow
CALSCALE:GREGORIAN
BEGIN:VEVENT
UID:1f05d702-277f-11f0-96e6-0a58a9feac02
DTSTAMP:20250502T180251Z
SUMMARY:Grade 5 Moving Up Ceremony
URL;VALUE=URI:https://www.albanyschools.org/schools/montessori/calendar/805
 4034/grade-5-moving-up-ceremony
DTSTART:20250625T133000Z
DTEND:20250625T143000Z
END:VEVENT
END:VCALENDAR
