BEGIN:VCALENDAR
VERSION:2.0
PRODID:SchoolNow
CALSCALE:GREGORIAN
BEGIN:VEVENT
UID:48504610-277f-11f0-b1b9-0ebee07da5cb
DTSTAMP:20250502T180118Z
SUMMARY:Early dismissal PK-grade 5
URL;VALUE=URI:https://www.albanyschools.org/schools/montessori/calendar/805
 4035/early-dismissal-pk-grade-5
DTSTART:20250626T154500Z
DTEND:20250626T164500Z
END:VEVENT
END:VCALENDAR
