BEGIN:VCALENDAR
VERSION:2.0
PRODID:SchoolNow
CALSCALE:GREGORIAN
BEGIN:VEVENT
UID:5f38c0d2-277f-11f0-a7a3-0a58a9feac02
DTSTAMP:20250502T180046Z
SUMMARY:Early dismissal PK-grade 5
URL;VALUE=URI:https://www.albanyschools.org/schools/montessori/calendar/805
 4036/early-dismissal-pk-grade-5
DTSTART:20250627T154500Z
DTEND:20250627T164500Z
END:VEVENT
END:VCALENDAR
