BEGIN:VCALENDAR
VERSION:2.0
PRODID:SchoolNow
CALSCALE:GREGORIAN
BEGIN:VEVENT
UID:1eff31da-2780-11f0-b980-0a58a9feac02
DTSTAMP:20250502T180607Z
SUMMARY:Last day of Learning Lab
URL;VALUE=URI:https://www.albanyschools.org/schools/montessori/calendar/805
 4038/last-day-of-learning-lab
DTSTART:20250620T180500Z
DTEND:20250620T190500Z
END:VEVENT
END:VCALENDAR
