BEGIN:VCALENDAR
VERSION:2.0
PRODID:SchoolNow
CALSCALE:GREGORIAN
BEGIN:VEVENT
UID:30029b2a-2780-11f0-aa7e-0a58a9feac02
DTSTAMP:20250502T180636Z
SUMMARY:Last day of JCC aftercare
URL;VALUE=URI:https://www.albanyschools.org/schools/montessori/calendar/805
 4039/last-day-of-jcc-aftercare
DTSTART:20250625T180600Z
DTEND:20250625T190600Z
END:VEVENT
END:VCALENDAR
