BEGIN:VCALENDAR
VERSION:2.0
PRODID:SchoolNow
CALSCALE:GREGORIAN
BEGIN:VEVENT
UID:7ab26f80-5d98-11f0-9dad-0a58a9feac02
DTSTAMP:20250710T141632Z
SUMMARY:Open House
URL;VALUE=URI:https://www.albanyschools.org/schools/montessori/calendar/840
 1935/open-house
DTSTART:20250916T223000Z
DTEND:20250916T234500Z
END:VEVENT
END:VCALENDAR
