BEGIN:VCALENDAR
VERSION:2.0
PRODID:SchoolNow
CALSCALE:GREGORIAN
BEGIN:VEVENT
UID:890febb6-5d98-11f0-9ddf-0a58a9feac02
DTSTAMP:20250710T141656Z
SUMMARY:New Family Orientation
URL;VALUE=URI:https://www.albanyschools.org/schools/montessori/calendar/840
 1936/new-family-orientation
DTSTART:20250902T220000Z
DTEND:20250902T230000Z
END:VEVENT
END:VCALENDAR
