BEGIN:VCALENDAR
VERSION:2.0
PRODID:SchoolNow
CALSCALE:GREGORIAN
BEGIN:VEVENT
UID:9eb7c326-5d98-11f0-8f0d-0a58a9feac02
DTSTAMP:20250710T141732Z
SUMMARY:Caregivers' Breakfast
URL;VALUE=URI:https://www.albanyschools.org/schools/montessori/calendar/840
 1937/caregivers-breakfast
DTSTART:20250918T114000Z
DTEND:20250918T124500Z
END:VEVENT
END:VCALENDAR
