BEGIN:VCALENDAR
VERSION:2.0
PRODID:SchoolNow
CALSCALE:GREGORIAN
BEGIN:VEVENT
UID:90395d2a-6e21-11f0-b96e-0eee7c8c1e25
DTSTAMP:20250731T151808Z
SUMMARY:First day of 2025-26 school year for PK-grade 5
URL;VALUE=URI:https://www.albanyschools.org/schools/montessori/calendar/846
 0726/first-day-of-2025-26-school-year-for-pk-grade-5
DTSTART:20250904T120000Z
DTEND:20250904T183000Z
END:VEVENT
END:VCALENDAR
