BEGIN:VCALENDAR
VERSION:2.0
PRODID:SchoolNow
CALSCALE:GREGORIAN
BEGIN:VEVENT
UID:1d7952ac-79f4-11f0-9a93-0a58a9feac02
DTSTAMP:20250815T162316Z
SUMMARY:New family playground playdate
URL;VALUE=URI:https://www.albanyschools.org/schools/montessori/calendar/851
 1031/new-family-play-dates
DTSTART:20250819T193000Z
DTEND:20250819T210000Z
END:VEVENT
END:VCALENDAR
