BEGIN:VCALENDAR
VERSION:2.0
PRODID:SchoolNow
CALSCALE:GREGORIAN
BEGIN:VEVENT
UID:34147c30-79f4-11f0-94b0-0e5d3462789d
DTSTAMP:20250815T162340Z
SUMMARY:New family playground playdate
URL;VALUE=URI:https://www.albanyschools.org/schools/montessori/calendar/851
 1032/new-family-play-dates-clone
DTSTART:20250827T210000Z
DTEND:20250827T223000Z
END:VEVENT
END:VCALENDAR
