BEGIN:VCALENDAR
VERSION:2.0
PRODID:SchoolNow
CALSCALE:GREGORIAN
BEGIN:VEVENT
UID:9a7ca1d6-81b6-11f0-8898-0a58a9feac02
DTSTAMP:20250909T153154Z
SUMMARY:Ice Cream Social (and mum pick up)
URL;VALUE=URI:https://www.albanyschools.org/schools/montessori/calendar/854
 0974/ice-cream-social-and-mum-pick-up
DTSTART:20250930T210000Z
DTEND:20250930T223000Z
END:VEVENT
END:VCALENDAR
